BEGIN:VCALENDAR
VERSION:2.0
PRODID:-//Nathaniel Kearney Jr - ECPv6.15.20//NONSGML v1.0//EN
CALSCALE:GREGORIAN
METHOD:PUBLISH
X-ORIGINAL-URL:https://nathanielkearneyjr.com
X-WR-CALDESC:Events for Nathaniel Kearney Jr
REFRESH-INTERVAL;VALUE=DURATION:PT1H
X-Robots-Tag:noindex
X-PUBLISHED-TTL:PT1H
BEGIN:VTIMEZONE
TZID:America/New_York
BEGIN:DAYLIGHT
TZOFFSETFROM:-0500
TZOFFSETTO:-0400
TZNAME:EDT
DTSTART:20220313T070000
END:DAYLIGHT
BEGIN:STANDARD
TZOFFSETFROM:-0400
TZOFFSETTO:-0500
TZNAME:EST
DTSTART:20221106T060000
END:STANDARD
BEGIN:DAYLIGHT
TZOFFSETFROM:-0500
TZOFFSETTO:-0400
TZNAME:EDT
DTSTART:20230312T070000
END:DAYLIGHT
BEGIN:STANDARD
TZOFFSETFROM:-0400
TZOFFSETTO:-0500
TZNAME:EST
DTSTART:20231105T060000
END:STANDARD
BEGIN:DAYLIGHT
TZOFFSETFROM:-0500
TZOFFSETTO:-0400
TZNAME:EDT
DTSTART:20240310T070000
END:DAYLIGHT
BEGIN:STANDARD
TZOFFSETFROM:-0400
TZOFFSETTO:-0500
TZNAME:EST
DTSTART:20241103T060000
END:STANDARD
END:VTIMEZONE
BEGIN:VTIMEZONE
TZID:America/Chicago
BEGIN:DAYLIGHT
TZOFFSETFROM:-0600
TZOFFSETTO:-0500
TZNAME:CDT
DTSTART:20220313T080000
END:DAYLIGHT
BEGIN:STANDARD
TZOFFSETFROM:-0500
TZOFFSETTO:-0600
TZNAME:CST
DTSTART:20221106T070000
END:STANDARD
BEGIN:DAYLIGHT
TZOFFSETFROM:-0600
TZOFFSETTO:-0500
TZNAME:CDT
DTSTART:20230312T080000
END:DAYLIGHT
BEGIN:STANDARD
TZOFFSETFROM:-0500
TZOFFSETTO:-0600
TZNAME:CST
DTSTART:20231105T070000
END:STANDARD
BEGIN:DAYLIGHT
TZOFFSETFROM:-0600
TZOFFSETTO:-0500
TZNAME:CDT
DTSTART:20240310T080000
END:DAYLIGHT
BEGIN:STANDARD
TZOFFSETFROM:-0500
TZOFFSETTO:-0600
TZNAME:CST
DTSTART:20241103T070000
END:STANDARD
END:VTIMEZONE
BEGIN:VTIMEZONE
TZID:America/Los_Angeles
BEGIN:DAYLIGHT
TZOFFSETFROM:-0800
TZOFFSETTO:-0700
TZNAME:PDT
DTSTART:20220313T100000
END:DAYLIGHT
BEGIN:STANDARD
TZOFFSETFROM:-0700
TZOFFSETTO:-0800
TZNAME:PST
DTSTART:20221106T090000
END:STANDARD
BEGIN:DAYLIGHT
TZOFFSETFROM:-0800
TZOFFSETTO:-0700
TZNAME:PDT
DTSTART:20230312T100000
END:DAYLIGHT
BEGIN:STANDARD
TZOFFSETFROM:-0700
TZOFFSETTO:-0800
TZNAME:PST
DTSTART:20231105T090000
END:STANDARD
BEGIN:DAYLIGHT
TZOFFSETFROM:-0800
TZOFFSETTO:-0700
TZNAME:PDT
DTSTART:20240310T100000
END:DAYLIGHT
BEGIN:STANDARD
TZOFFSETFROM:-0700
TZOFFSETTO:-0800
TZNAME:PST
DTSTART:20241103T090000
END:STANDARD
END:VTIMEZONE
BEGIN:VTIMEZONE
TZID:America/Indiana/Indianapolis
BEGIN:DAYLIGHT
TZOFFSETFROM:-0500
TZOFFSETTO:-0400
TZNAME:EDT
DTSTART:20220313T070000
END:DAYLIGHT
BEGIN:STANDARD
TZOFFSETFROM:-0400
TZOFFSETTO:-0500
TZNAME:EST
DTSTART:20221106T060000
END:STANDARD
BEGIN:DAYLIGHT
TZOFFSETFROM:-0500
TZOFFSETTO:-0400
TZNAME:EDT
DTSTART:20230312T070000
END:DAYLIGHT
BEGIN:STANDARD
TZOFFSETFROM:-0400
TZOFFSETTO:-0500
TZNAME:EST
DTSTART:20231105T060000
END:STANDARD
BEGIN:DAYLIGHT
TZOFFSETFROM:-0500
TZOFFSETTO:-0400
TZNAME:EDT
DTSTART:20240310T070000
END:DAYLIGHT
BEGIN:STANDARD
TZOFFSETFROM:-0400
TZOFFSETTO:-0500
TZNAME:EST
DTSTART:20241103T060000
END:STANDARD
END:VTIMEZONE
BEGIN:VEVENT
DTSTART;TZID=America/New_York:20231210T190000
DTEND;TZID=America/New_York:20231210T210000
DTSTAMP:20260425T090520
CREATED:20231123T205537Z
LAST-MODIFIED:20231123T205537Z
UID:2469-1702234800-1702242000@nathanielkearneyjr.com
SUMMARY:Dave Koz & Friends Christmas Tour - Keybank State Theatre
DESCRIPTION:
URL:https://nathanielkearneyjr.com/event/dave-koz-friends-christmas-tour-keybank-state-theatre/
LOCATION:Keybank State Theatre\, 1511 Euclid Ave\, Cleveland\, OH\, 44115\, United States
ATTACH;FMTTYPE=image/jpeg:https://nathanielkearneyjr.com/wp-content/uploads/2023/11/23-24-Dave-Koz-final-thumb-3cc83fb699.jpg
END:VEVENT
BEGIN:VEVENT
DTSTART;TZID=America/Chicago:20231209T200000
DTEND;TZID=America/Chicago:20231209T220000
DTSTAMP:20260425T090520
CREATED:20231123T205259Z
LAST-MODIFIED:20231123T205259Z
UID:2466-1702152000-1702159200@nathanielkearneyjr.com
SUMMARY:Dave Koz & Friends Christmas Tour - Auditorium Theatre
DESCRIPTION:
URL:https://nathanielkearneyjr.com/event/dave-koz-friends-christmas-tour-auditorium-theatre/
LOCATION:Auditiorium Theatre\, 50 E Ida B Wells Dr\, Chicago\, IL\, 60605\, United States
ATTACH;FMTTYPE=image/jpeg:https://nathanielkearneyjr.com/wp-content/uploads/2023/11/23-24-Dave-Koz-final-thumb-3cc83fb699.jpg
END:VEVENT
BEGIN:VEVENT
DTSTART;TZID=America/New_York:20231208T200000
DTEND;TZID=America/New_York:20231208T220000
DTSTAMP:20260425T090520
CREATED:20231123T204906Z
LAST-MODIFIED:20231123T204906Z
UID:2463-1702065600-1702072800@nathanielkearneyjr.com
SUMMARY:Dave Koz & Friends Christmas Tour - Palace Theatre
DESCRIPTION:
URL:https://nathanielkearneyjr.com/event/dave-koz-friends-christmas-tour-palace-theatre/
LOCATION:Palace Theatre\, 34 W Broad St\, Columbus\, OH\, 43215\, United States
ATTACH;FMTTYPE=image/jpeg:https://nathanielkearneyjr.com/wp-content/uploads/2023/11/23-24-Dave-Koz-final-thumb-3cc83fb699.jpg
END:VEVENT
BEGIN:VEVENT
DTSTART;TZID=America/New_York:20231207T200000
DTEND;TZID=America/New_York:20231207T220000
DTSTAMP:20260425T090520
CREATED:20231123T204540Z
LAST-MODIFIED:20231123T204540Z
UID:2460-1701979200-1701986400@nathanielkearneyjr.com
SUMMARY:Dave Koz & Friends Christmas Tour - Music Hall
DESCRIPTION:
URL:https://nathanielkearneyjr.com/event/dave-koz-friends-christmas-tour-music-hall/
LOCATION:Music Hall\, 350 Madison St\, Detroit\, MI\, 48226\, United States
ATTACH;FMTTYPE=image/jpeg:https://nathanielkearneyjr.com/wp-content/uploads/2023/11/23-24-Dave-Koz-final-thumb-3cc83fb699.jpg
END:VEVENT
BEGIN:VEVENT
DTSTART;TZID=America/New_York:20231206T200000
DTEND;TZID=America/New_York:20231206T220000
DTSTAMP:20260425T090520
CREATED:20231123T204400Z
LAST-MODIFIED:20231123T204400Z
UID:2457-1701892800-1701900000@nathanielkearneyjr.com
SUMMARY:Dave Koz & Friends Christmas Tour - Carnegie Library Music Hall
DESCRIPTION:
URL:https://nathanielkearneyjr.com/event/dave-koz-friends-christmas-tour-carnegie-library-music-hall/
LOCATION:Carnegie Library Music Hall\, 510 E Tenth Ave\, Homestead\, PA\, 15120\, United States
ATTACH;FMTTYPE=image/jpeg:https://nathanielkearneyjr.com/wp-content/uploads/2023/11/23-24-Dave-Koz-final-thumb-3cc83fb699.jpg
END:VEVENT
BEGIN:VEVENT
DTSTART;TZID=America/New_York:20231205T193000
DTEND;TZID=America/New_York:20231205T213000
DTSTAMP:20260425T090520
CREATED:20231123T204145Z
LAST-MODIFIED:20231123T204145Z
UID:2454-1701804600-1701811800@nathanielkearneyjr.com
SUMMARY:Dave Koz & Friends Christmas Tour - The Palladium
DESCRIPTION:
URL:https://nathanielkearneyjr.com/event/dave-koz-friends-christmas-tour-the-palladium/
LOCATION:The Palladium\, 760 Third Ave SW\, Carmel\, IN\, 46032\, United States
ATTACH;FMTTYPE=image/jpeg:https://nathanielkearneyjr.com/wp-content/uploads/2023/11/23-24-Dave-Koz-final-thumb-3cc83fb699.jpg
END:VEVENT
BEGIN:VEVENT
DTSTART;TZID=America/New_York:20231203T200000
DTEND;TZID=America/New_York:20231203T220000
DTSTAMP:20260425T090520
CREATED:20231123T203912Z
LAST-MODIFIED:20231123T203912Z
UID:2451-1701633600-1701640800@nathanielkearneyjr.com
SUMMARY:Dave Koz & Friends Christmas Tour - Strathmore
DESCRIPTION:
URL:https://nathanielkearneyjr.com/event/dave-koz-friends-christmas-tour-strathmore/
LOCATION:Strathmore\, 5301 Tuckerman Ln\, North Bethesda\, MD\, 20852\, United States
ATTACH;FMTTYPE=image/jpeg:https://nathanielkearneyjr.com/wp-content/uploads/2023/11/23-24-Dave-Koz-final-thumb-3cc83fb699.jpg
END:VEVENT
BEGIN:VEVENT
DTSTART;TZID=America/New_York:20231202T200000
DTEND;TZID=America/New_York:20231202T220000
DTSTAMP:20260425T090520
CREATED:20231123T203537Z
LAST-MODIFIED:20231123T203537Z
UID:2448-1701547200-1701554400@nathanielkearneyjr.com
SUMMARY:Dave Koz & Friends Christmas Tour - Ferguson Center
DESCRIPTION:
URL:https://nathanielkearneyjr.com/event/dave-koz-friends-christmas-tour-ferguson-center/
LOCATION:Ferguson Center\, 1 Avenue of the Arts\, Newport News\, VA\, 23606\, United States
ATTACH;FMTTYPE=image/jpeg:https://nathanielkearneyjr.com/wp-content/uploads/2023/11/23-24-Dave-Koz-final-thumb-3cc83fb699.jpg
END:VEVENT
BEGIN:VEVENT
DTSTART;TZID=America/New_York:20231201T200000
DTEND;TZID=America/New_York:20231201T220000
DTSTAMP:20260425T090520
CREATED:20231123T203108Z
LAST-MODIFIED:20231123T203108Z
UID:2445-1701460800-1701468000@nathanielkearneyjr.com
SUMMARY:Dave Koz & Friends Christmas Tour - Knight Concert Hall
DESCRIPTION:
URL:https://nathanielkearneyjr.com/event/dave-koz-friends-christmas-tour-knight-concert-hall/
LOCATION:Knight Concert Hall\, 1300 Biscayne Blvd\, Miami\, FL\, 33132\, United States
ATTACH;FMTTYPE=image/jpeg:https://nathanielkearneyjr.com/wp-content/uploads/2023/11/23-24-Dave-Koz-final-thumb-3cc83fb699.jpg
END:VEVENT
BEGIN:VEVENT
DTSTART;TZID=America/New_York:20231130T200000
DTEND;TZID=America/New_York:20231130T220000
DTSTAMP:20260425T090520
CREATED:20231123T202513Z
LAST-MODIFIED:20231123T202513Z
UID:2442-1701374400-1701381600@nathanielkearneyjr.com
SUMMARY:Dave Koz & Friends Christmas Tour - Florida Theatre
DESCRIPTION:
URL:https://nathanielkearneyjr.com/event/dave-koz-friends-christmas-tour-florida-theatre/
LOCATION:Florida Theatre\, 128 E Forsyth St\, Jacksonville\, FL\, 32202\, United States
ATTACH;FMTTYPE=image/jpeg:https://nathanielkearneyjr.com/wp-content/uploads/2023/11/23-24-Dave-Koz-final-thumb-3cc83fb699.jpg
END:VEVENT
BEGIN:VEVENT
DTSTART;TZID=America/New_York:20231129T193000
DTEND;TZID=America/New_York:20231129T213000
DTSTAMP:20260425T090520
CREATED:20231123T202233Z
LAST-MODIFIED:20231123T202233Z
UID:2439-1701286200-1701293400@nathanielkearneyjr.com
SUMMARY:Dave Koz & Friends Christmas Tour - Van Wezel Performing Arts Hall
DESCRIPTION:
URL:https://nathanielkearneyjr.com/event/dave-koz-friends-christmas-tour-van-wezel-performing-arts-hall/
LOCATION:Van Wezel Performing Arts Hall\, 777 M Tamiami Trail\, Sarasota\, FL\, 34236\, United States
ATTACH;FMTTYPE=image/jpeg:https://nathanielkearneyjr.com/wp-content/uploads/2023/11/23-24-Dave-Koz-final-thumb-3cc83fb699.jpg
END:VEVENT
BEGIN:VEVENT
DTSTART;TZID=America/New_York:20231128T193000
DTEND;TZID=America/New_York:20231128T213000
DTSTAMP:20260425T090520
CREATED:20231123T201839Z
LAST-MODIFIED:20231123T201839Z
UID:2436-1701199800-1701207000@nathanielkearneyjr.com
SUMMARY:Dave Koz & Friends Christmas Tour - Sunrise Theatre
DESCRIPTION:
URL:https://nathanielkearneyjr.com/event/dave-koz-friends-christmas-tour-sunrise-theatre/
LOCATION:Sunrise Theatre\, 117 S Second St\, Fort Pierce\, FL\, 34950\, United States
ATTACH;FMTTYPE=image/jpeg:https://nathanielkearneyjr.com/wp-content/uploads/2023/11/23-24-Dave-Koz-final-thumb-3cc83fb699.jpg
END:VEVENT
BEGIN:VEVENT
DTSTART;TZID=America/New_York:20231126T190000
DTEND;TZID=America/New_York:20231126T210000
DTSTAMP:20260425T090520
CREATED:20231123T201414Z
LAST-MODIFIED:20231123T201414Z
UID:2433-1701025200-1701032400@nathanielkearneyjr.com
SUMMARY:Dave Koz & Friends Christmas Tour - Artis
DESCRIPTION:
URL:https://nathanielkearneyjr.com/event/dave-koz-friends-christmas-tour-artis/
LOCATION:Artis\, 5833 Pelican Bay Blvd\, Naples\, FL\, 34108\, United States
ATTACH;FMTTYPE=image/jpeg:https://nathanielkearneyjr.com/wp-content/uploads/2023/11/23-24-Dave-Koz-final-thumb-3cc83fb699.jpg
END:VEVENT
BEGIN:VEVENT
DTSTART;TZID=America/New_York:20231125T190000
DTEND;TZID=America/New_York:20231125T210000
DTSTAMP:20260425T090520
CREATED:20231123T201149Z
LAST-MODIFIED:20231123T201149Z
UID:2429-1700938800-1700946000@nathanielkearneyjr.com
SUMMARY:Dave Koz & Friends Christmas Tour - Ruth Eckerd Hall
DESCRIPTION:
URL:https://nathanielkearneyjr.com/event/dave-koz-friends-christmas-tour-ruth-eckerd-hall/
LOCATION:Ruth Eckerd Hall\, 1111 N McMullen Booth Rd\, Clearwater\, FL\, 33759\, United States
ATTACH;FMTTYPE=image/jpeg:https://nathanielkearneyjr.com/wp-content/uploads/2023/11/23-24-Dave-Koz-final-thumb-3cc83fb699.jpg
END:VEVENT
BEGIN:VEVENT
DTSTART;TZID=America/New_York:20231124T080000
DTEND;TZID=America/New_York:20231124T220000
DTSTAMP:20260425T090520
CREATED:20231123T200223Z
LAST-MODIFIED:20231123T200223Z
UID:2423-1700812800-1700863200@nathanielkearneyjr.com
SUMMARY:Dave Koz & Friends Christmas Tour - Cobb Energy Center
DESCRIPTION:
URL:https://nathanielkearneyjr.com/event/dave-koz-friends-christmas-tour-cobb-energy-center/
LOCATION:Cobb Energy Center\, 2800 Cobb Galleria Pkwy\, Atlanta\, GA\, 30339\, United States
ATTACH;FMTTYPE=image/jpeg:https://nathanielkearneyjr.com/wp-content/uploads/2023/11/23-24-Dave-Koz-final-thumb-3cc83fb699.jpg
END:VEVENT
BEGIN:VEVENT
DTSTART;TZID=America/Chicago:20231024T180000
DTEND;TZID=America/Chicago:20231024T200000
DTSTAMP:20260425T090520
CREATED:20231010T174512Z
LAST-MODIFIED:20231010T174512Z
UID:2417-1698170400-1698177600@nathanielkearneyjr.com
SUMMARY:w/ CeCe Winans - Union University Scholarship Banquet
DESCRIPTION:
URL:https://nathanielkearneyjr.com/event/w-cece-winans-union-university-scholarship-banquet/
LOCATION:Carl Perkins Civic Center\, 400 S Highland Ave\, Jackson\, TN\, 38301\, United States
ATTACH;FMTTYPE=image/jpeg:https://nathanielkearneyjr.com/wp-content/uploads/2023/09/CeCe2021-Live-PurpleCover-KrisRae.jpg
END:VEVENT
BEGIN:VEVENT
DTSTART;TZID=America/Chicago:20231019T190000
DTEND;TZID=America/Chicago:20231019T220000
DTSTAMP:20260425T090520
CREATED:20230927T042451Z
LAST-MODIFIED:20230927T042541Z
UID:2412-1697742000-1697752800@nathanielkearneyjr.com
SUMMARY:w/CeCe Winans @ The Chaifetz Arena
DESCRIPTION:
URL:https://nathanielkearneyjr.com/event/w-cece-winans-chaifetz-arena/
LOCATION:Chaifetz Arena\, 1 S Compton Ave\, St Louis\, MO\, 63103\, United States
ATTACH;FMTTYPE=image/jpeg:https://nathanielkearneyjr.com/wp-content/uploads/2023/09/CeCe2021-Live-PurpleCover-KrisRae.jpg
END:VEVENT
BEGIN:VEVENT
DTSTART;TZID=America/New_York:20231018T190000
DTEND;TZID=America/New_York:20231018T220000
DTSTAMP:20260425T090520
CREATED:20230927T042103Z
LAST-MODIFIED:20230927T042103Z
UID:2409-1697655600-1697666400@nathanielkearneyjr.com
SUMMARY:w/CeCe Winans @ The Fox Theatre
DESCRIPTION:
URL:https://nathanielkearneyjr.com/event/w-cece-winans-the-fox-theatre/
LOCATION:Fox Theatre\, 660 Peachtree St NE\, Atlanta\, GA\, 30308\, United States
ATTACH;FMTTYPE=image/jpeg:https://nathanielkearneyjr.com/wp-content/uploads/2023/09/CeCe2021-Live-PurpleCover-KrisRae.jpg
END:VEVENT
BEGIN:VEVENT
DTSTART;TZID=America/New_York:20231017T190000
DTEND;TZID=America/New_York:20231017T220000
DTSTAMP:20260425T090520
CREATED:20230927T041804Z
LAST-MODIFIED:20230927T041804Z
UID:2405-1697569200-1697580000@nathanielkearneyjr.com
SUMMARY:w/CeCe Winans @ The Northland Church
DESCRIPTION:
URL:https://nathanielkearneyjr.com/event/w-cece-winans-the-northland-church/
LOCATION:Northland Church\, 530 Dog Track Rd\, Longwood\, FL\, 32750\, United States
ATTACH;FMTTYPE=image/jpeg:https://nathanielkearneyjr.com/wp-content/uploads/2023/09/CeCe2021-Live-PurpleCover-KrisRae.jpg
END:VEVENT
BEGIN:VEVENT
DTSTART;TZID=America/New_York:20231013T190000
DTEND;TZID=America/New_York:20231013T220000
DTSTAMP:20260425T090520
CREATED:20230927T041226Z
LAST-MODIFIED:20230927T041412Z
UID:2401-1697223600-1697234400@nathanielkearneyjr.com
SUMMARY:w/CeCe Winans @ The Chesapeake Employers Insurance Arena
DESCRIPTION:
URL:https://nathanielkearneyjr.com/event/w-cece-winans-the-chesapeake-employers-insurance-arena/
LOCATION:Chesapeake Employers Insurance Arena\, 1000 Hilltop Coir\, Baltimore\, MD\, 21250\, United States
ATTACH;FMTTYPE=image/jpeg:https://nathanielkearneyjr.com/wp-content/uploads/2023/09/CeCe2021-Live-PurpleCover-KrisRae.jpg
END:VEVENT
BEGIN:VEVENT
DTSTART;TZID=America/New_York:20231012T190000
DTEND;TZID=America/New_York:20231012T220000
DTSTAMP:20260425T090520
CREATED:20230927T040649Z
LAST-MODIFIED:20230927T040649Z
UID:2398-1697137200-1697148000@nathanielkearneyjr.com
SUMMARY:w/CeCe Winans @ The Kings Theatre
DESCRIPTION:
URL:https://nathanielkearneyjr.com/event/w-cece-winans-the-kings-theatre/
LOCATION:Kings Theatre\, 1027 Flatbush Ave\, Brooklyn\, NY\, 11226\, United States
ATTACH;FMTTYPE=image/jpeg:https://nathanielkearneyjr.com/wp-content/uploads/2023/09/CeCe2021-Live-PurpleCover-KrisRae.jpg
END:VEVENT
BEGIN:VEVENT
DTSTART;TZID=America/New_York:20231011T190000
DTEND;TZID=America/New_York:20231011T220000
DTSTAMP:20260425T090520
CREATED:20230927T040417Z
LAST-MODIFIED:20230927T040417Z
UID:2395-1697050800-1697061600@nathanielkearneyjr.com
SUMMARY:w/CeCe Winans @ The Bojangles Coliseum
DESCRIPTION:
URL:https://nathanielkearneyjr.com/event/w-cece-winans-the-bojangles-coliseum/
LOCATION:Bojangles Coliseum\, 2700 E Independence Blvd\, Charlotte\, NC\, 28205\, United States
ATTACH;FMTTYPE=image/jpeg:https://nathanielkearneyjr.com/wp-content/uploads/2023/09/CeCe2021-Live-PurpleCover-KrisRae.jpg
END:VEVENT
BEGIN:VEVENT
DTSTART;TZID=America/Los_Angeles:20231002T183000
DTEND;TZID=America/Los_Angeles:20231002T200000
DTSTAMP:20260425T090520
CREATED:20230909T132441Z
LAST-MODIFIED:20230910T015650Z
UID:2177-1696271400-1696276800@nathanielkearneyjr.com
SUMMARY:w/Jeff Lorber Fusion @ Spaghettini
DESCRIPTION:
URL:https://nathanielkearneyjr.com/event/w-jeff-lorber-fusion-spaghettini/
LOCATION:Spaghettini\, 3005 Old Ranch Pkwy\, Seal Beach\, CA\, 90740\, United States
ATTACH;FMTTYPE=image/jpeg:https://nathanielkearneyjr.com/wp-content/uploads/2023/09/Lorber-scaled-e1694310987555.jpeg
END:VEVENT
BEGIN:VEVENT
DTSTART;TZID=America/Indiana/Indianapolis:20230929T193000
DTEND;TZID=America/Indiana/Indianapolis:20230929T213000
DTSTAMP:20260425T090520
CREATED:20230909T131657Z
LAST-MODIFIED:20230909T182546Z
UID:2172-1696015800-1696023000@nathanielkearneyjr.com
SUMMARY:w/CeCe Winans @ The DeBartolo Performing Arts Center
DESCRIPTION:
URL:https://nathanielkearneyjr.com/event/w-cece-winans-the-debartolo-performing-arts-center/
LOCATION:DeBartolo Performing Arts Center\, 100 Performing Arts Center\, Notre Dame\, IN\, 46556\, United States
ATTACH;FMTTYPE=image/jpeg:https://nathanielkearneyjr.com/wp-content/uploads/2023/09/CeCe2021-Live-PurpleCover-KrisRae.jpg
END:VEVENT
BEGIN:VEVENT
DTSTART;TZID=America/New_York:20230924T190000
DTEND;TZID=America/New_York:20230924T220000
DTSTAMP:20260425T090520
CREATED:20230910T012915Z
LAST-MODIFIED:20230910T075629Z
UID:2199-1695582000-1695592800@nathanielkearneyjr.com
SUMMARY:w/Norman Brown @ Mable House Barnes Amphitheatre
DESCRIPTION:
URL:https://nathanielkearneyjr.com/event/w-norman-brown-mable-house-barnes-amphitheatre/
LOCATION:Mable House Barnes Amphitheatre\, 5239 Floyd Rd\, Mableton\, GA\, 30126\, United States
ATTACH;FMTTYPE=image/jpeg:https://nathanielkearneyjr.com/wp-content/uploads/2023/09/NB-e1694309946328.jpg
END:VEVENT
BEGIN:VEVENT
DTSTART;TZID=America/Chicago:20230923T190000
DTEND;TZID=America/Chicago:20230923T220000
DTSTAMP:20260425T090520
CREATED:20230910T012600Z
LAST-MODIFIED:20230913T163828Z
UID:2196-1695495600-1695506400@nathanielkearneyjr.com
SUMMARY:w/Norman Brown @ The Blanche M. Touhill Performing Arts Center
DESCRIPTION:
URL:https://nathanielkearneyjr.com/event/w-norman-brown-the-blanche-m-touhill-performing-arts-center/
LOCATION:Blanche M Touhill Performing Arts Center\, 1 University Blvd\, St Louis\, MO\, 63121\, United States
ATTACH;FMTTYPE=image/jpeg:https://nathanielkearneyjr.com/wp-content/uploads/2023/09/NB-e1694309946328.jpg
END:VEVENT
BEGIN:VEVENT
DTSTART;TZID=America/New_York:20230922T190000
DTEND;TZID=America/New_York:20230922T220000
DTSTAMP:20260425T090520
CREATED:20230909T133627Z
LAST-MODIFIED:20230910T014152Z
UID:2182-1695409200-1695420000@nathanielkearneyjr.com
SUMMARY:w/Jazz Funk Soul @ Mable House Barnes Amphitheatre
DESCRIPTION:
URL:https://nathanielkearneyjr.com/event/w-jazz-funk-soul-mable-house-barnes-amphitheatre/
LOCATION:Mable House Barnes Amphitheatre\, 5239 Floyd Rd\, Mableton\, GA\, 30126\, United States
ATTACH;FMTTYPE=image/jpeg:https://nathanielkearneyjr.com/wp-content/uploads/2023/09/JazzFunkSoul-PR2-e1694310097281.jpg
END:VEVENT
BEGIN:VEVENT
DTSTART;TZID=America/New_York:20230920T180000
DTEND;TZID=America/New_York:20230920T200000
DTSTAMP:20260425T090520
CREATED:20230909T131157Z
LAST-MODIFIED:20230909T182454Z
UID:2169-1695232800-1695240000@nathanielkearneyjr.com
SUMMARY:w/CeCe Winans @ The Schuster Center
DESCRIPTION:
URL:https://nathanielkearneyjr.com/event/w-cece-winans-the-schuster-center/
LOCATION:The Schuster Center\, 1 West 2nd Street\, Dayton\, OH\, 45402\, United States
ATTACH;FMTTYPE=image/jpeg:https://nathanielkearneyjr.com/wp-content/uploads/2023/09/CeCe2021-Live-PurpleCover-KrisRae.jpg
END:VEVENT
BEGIN:VEVENT
DTSTART;TZID=America/New_York:20230916T193000
DTEND;TZID=America/New_York:20230916T213000
DTSTAMP:20260425T090520
CREATED:20230909T125803Z
LAST-MODIFIED:20230909T182329Z
UID:2165-1694892600-1694899800@nathanielkearneyjr.com
SUMMARY:w/CeCe Winans @ FaithFest Events Complex
DESCRIPTION:
URL:https://nathanielkearneyjr.com/event/w-cece-winans-faithfest-events-complex/
LOCATION:FaithFest Events Complex\, 1600 Industrial Dr\, Wilkesboro\, NC\, 28697\, United States
ATTACH;FMTTYPE=image/jpeg:https://nathanielkearneyjr.com/wp-content/uploads/2023/09/CeCe2021-Live-PurpleCover-KrisRae.jpg
END:VEVENT
BEGIN:VEVENT
DTSTART;TZID=America/Chicago:20230915T190000
DTEND;TZID=America/Chicago:20230915T210000
DTSTAMP:20260425T090520
CREATED:20230908T010552Z
LAST-MODIFIED:20230910T013927Z
UID:2157-1694804400-1694811600@nathanielkearneyjr.com
SUMMARY:w/CeCe Winans @ The Fisher Center for the Performing Arts
DESCRIPTION:
URL:https://nathanielkearneyjr.com/event/w-cece-winans-the-fisher-center-for-the-performing-arts/
LOCATION:Fisher Center for the Performing Arts\, 2020 Belmont Blvd\, Nashville\, TN\, 37212\, United States
ATTACH;FMTTYPE=image/jpeg:https://nathanielkearneyjr.com/wp-content/uploads/2023/09/CeCe2021-Live-PurpleCover-KrisRae.jpg
END:VEVENT
END:VCALENDAR