BEGIN:VCALENDAR
VERSION:2.0
PRODID:-//Nathaniel Kearney Jr - ECPv6.15.20//NONSGML v1.0//EN
CALSCALE:GREGORIAN
METHOD:PUBLISH
X-WR-CALNAME:Nathaniel Kearney Jr
X-ORIGINAL-URL:https://nathanielkearneyjr.com
X-WR-CALDESC:Events for Nathaniel Kearney Jr
REFRESH-INTERVAL;VALUE=DURATION:PT1H
X-Robots-Tag:noindex
X-PUBLISHED-TTL:PT1H
BEGIN:VTIMEZONE
TZID:America/Los_Angeles
BEGIN:DAYLIGHT
TZOFFSETFROM:-0800
TZOFFSETTO:-0700
TZNAME:PDT
DTSTART:20230312T100000
END:DAYLIGHT
BEGIN:STANDARD
TZOFFSETFROM:-0700
TZOFFSETTO:-0800
TZNAME:PST
DTSTART:20231105T090000
END:STANDARD
BEGIN:DAYLIGHT
TZOFFSETFROM:-0800
TZOFFSETTO:-0700
TZNAME:PDT
DTSTART:20240310T100000
END:DAYLIGHT
BEGIN:STANDARD
TZOFFSETFROM:-0700
TZOFFSETTO:-0800
TZNAME:PST
DTSTART:20241103T090000
END:STANDARD
BEGIN:DAYLIGHT
TZOFFSETFROM:-0800
TZOFFSETTO:-0700
TZNAME:PDT
DTSTART:20250309T100000
END:DAYLIGHT
BEGIN:STANDARD
TZOFFSETFROM:-0700
TZOFFSETTO:-0800
TZNAME:PST
DTSTART:20251102T090000
END:STANDARD
END:VTIMEZONE
BEGIN:VTIMEZONE
TZID:America/Phoenix
BEGIN:STANDARD
TZOFFSETFROM:-0700
TZOFFSETTO:-0700
TZNAME:MST
DTSTART:20230101T000000
END:STANDARD
END:VTIMEZONE
BEGIN:VTIMEZONE
TZID:America/New_York
BEGIN:DAYLIGHT
TZOFFSETFROM:-0500
TZOFFSETTO:-0400
TZNAME:EDT
DTSTART:20230312T070000
END:DAYLIGHT
BEGIN:STANDARD
TZOFFSETFROM:-0400
TZOFFSETTO:-0500
TZNAME:EST
DTSTART:20231105T060000
END:STANDARD
BEGIN:DAYLIGHT
TZOFFSETFROM:-0500
TZOFFSETTO:-0400
TZNAME:EDT
DTSTART:20240310T070000
END:DAYLIGHT
BEGIN:STANDARD
TZOFFSETFROM:-0400
TZOFFSETTO:-0500
TZNAME:EST
DTSTART:20241103T060000
END:STANDARD
BEGIN:DAYLIGHT
TZOFFSETFROM:-0500
TZOFFSETTO:-0400
TZNAME:EDT
DTSTART:20250309T070000
END:DAYLIGHT
BEGIN:STANDARD
TZOFFSETFROM:-0400
TZOFFSETTO:-0500
TZNAME:EST
DTSTART:20251102T060000
END:STANDARD
END:VTIMEZONE
BEGIN:VTIMEZONE
TZID:America/Indiana/Indianapolis
BEGIN:DAYLIGHT
TZOFFSETFROM:-0500
TZOFFSETTO:-0400
TZNAME:EDT
DTSTART:20230312T070000
END:DAYLIGHT
BEGIN:STANDARD
TZOFFSETFROM:-0400
TZOFFSETTO:-0500
TZNAME:EST
DTSTART:20231105T060000
END:STANDARD
BEGIN:DAYLIGHT
TZOFFSETFROM:-0500
TZOFFSETTO:-0400
TZNAME:EDT
DTSTART:20240310T070000
END:DAYLIGHT
BEGIN:STANDARD
TZOFFSETFROM:-0400
TZOFFSETTO:-0500
TZNAME:EST
DTSTART:20241103T060000
END:STANDARD
BEGIN:DAYLIGHT
TZOFFSETFROM:-0500
TZOFFSETTO:-0400
TZNAME:EDT
DTSTART:20250309T070000
END:DAYLIGHT
BEGIN:STANDARD
TZOFFSETFROM:-0400
TZOFFSETTO:-0500
TZNAME:EST
DTSTART:20251102T060000
END:STANDARD
END:VTIMEZONE
BEGIN:VTIMEZONE
TZID:America/Chicago
BEGIN:DAYLIGHT
TZOFFSETFROM:-0600
TZOFFSETTO:-0500
TZNAME:CDT
DTSTART:20230312T080000
END:DAYLIGHT
BEGIN:STANDARD
TZOFFSETFROM:-0500
TZOFFSETTO:-0600
TZNAME:CST
DTSTART:20231105T070000
END:STANDARD
BEGIN:DAYLIGHT
TZOFFSETFROM:-0600
TZOFFSETTO:-0500
TZNAME:CDT
DTSTART:20240310T080000
END:DAYLIGHT
BEGIN:STANDARD
TZOFFSETFROM:-0500
TZOFFSETTO:-0600
TZNAME:CST
DTSTART:20241103T070000
END:STANDARD
BEGIN:DAYLIGHT
TZOFFSETFROM:-0600
TZOFFSETTO:-0500
TZNAME:CDT
DTSTART:20250309T080000
END:DAYLIGHT
BEGIN:STANDARD
TZOFFSETFROM:-0500
TZOFFSETTO:-0600
TZNAME:CST
DTSTART:20251102T070000
END:STANDARD
END:VTIMEZONE
BEGIN:VEVENT
DTSTART;VALUE=DATE:20241223
DTEND;VALUE=DATE:20241224
DTSTAMP:20260425T053230
CREATED:20240725T050920Z
LAST-MODIFIED:20240725T050920Z
UID:2677-1734912000-1734998399@nathanielkearneyjr.com
SUMMARY:Dave Koz & Friends Christmas Tour @ The Gallo Center For The Arts
DESCRIPTION:
URL:https://nathanielkearneyjr.com/event/dave-koz-friends-christmas-tour-the-gallo-center-for-the-arts/
LOCATION:Gallo Center for the Arts\, 1000 I St\, Modesto\, CA\, 95354\, United States
ATTACH;FMTTYPE=image/jpeg:https://nathanielkearneyjr.com/wp-content/uploads/2024/07/koz-christmas-24-e1721879556556.jpeg
END:VEVENT
BEGIN:VEVENT
DTSTART;VALUE=DATE:20241222
DTEND;VALUE=DATE:20241223
DTSTAMP:20260425T053230
CREATED:20240725T050821Z
LAST-MODIFIED:20240725T050821Z
UID:2675-1734825600-1734911999@nathanielkearneyjr.com
SUMMARY:Dave Koz & Friends Christmas Tour @ The McCallum Theatre
DESCRIPTION:
URL:https://nathanielkearneyjr.com/event/dave-koz-friends-christmas-tour-the-mccallum-theatre/
LOCATION:McCallum Theatre\, 73000 Fred Waring Dr\, Palm Desert\, CA\, 92260\, United States
ATTACH;FMTTYPE=image/jpeg:https://nathanielkearneyjr.com/wp-content/uploads/2024/07/koz-christmas-24-e1721879556556.jpeg
END:VEVENT
BEGIN:VEVENT
DTSTART;VALUE=DATE:20241221
DTEND;VALUE=DATE:20241222
DTSTAMP:20260425T053230
CREATED:20240725T050652Z
LAST-MODIFIED:20240725T051113Z
UID:2673-1734739200-1734825599@nathanielkearneyjr.com
SUMMARY:Dave Koz & Friends Christmas Tour @ The Cerritos Center
DESCRIPTION:
URL:https://nathanielkearneyjr.com/event/dave-koz-friends-christmas-tour-the-cerritos-center-2/
LOCATION:Cerritos Center\, 18000 Park Plaza Dr\, Cerritos\, CA\, 90703\, United States
ATTACH;FMTTYPE=image/jpeg:https://nathanielkearneyjr.com/wp-content/uploads/2024/07/koz-christmas-24-e1721879556556.jpeg
END:VEVENT
BEGIN:VEVENT
DTSTART;VALUE=DATE:20241220
DTEND;VALUE=DATE:20241221
DTSTAMP:20260425T053230
CREATED:20240725T050525Z
LAST-MODIFIED:20240725T050525Z
UID:2671-1734652800-1734739199@nathanielkearneyjr.com
SUMMARY:Dave Koz & Friends Christmas Tour @ The Cerritos Center
DESCRIPTION:
URL:https://nathanielkearneyjr.com/event/dave-koz-friends-christmas-tour-the-cerritos-center/
LOCATION:Cerritos Center\, 18000 Park Plaza Dr\, Cerritos\, CA\, 90703\, United States
ATTACH;FMTTYPE=image/jpeg:https://nathanielkearneyjr.com/wp-content/uploads/2024/07/koz-christmas-24-e1721879556556.jpeg
END:VEVENT
BEGIN:VEVENT
DTSTART;VALUE=DATE:20241219
DTEND;VALUE=DATE:20241220
DTSTAMP:20260425T053230
CREATED:20240725T050400Z
LAST-MODIFIED:20240725T051022Z
UID:2669-1734566400-1734652799@nathanielkearneyjr.com
SUMMARY:Dave Koz & Friends Christmas Tour @ The Balboa Theatre
DESCRIPTION:
URL:https://nathanielkearneyjr.com/event/dave-koz-friends-christmas-tour-the-balboa-theatre/
LOCATION:Balboa Theatre\, 868 Fourth Ave\, San Diego\, CA\, 92101\, United States
ATTACH;FMTTYPE=image/jpeg:https://nathanielkearneyjr.com/wp-content/uploads/2024/07/koz-christmas-24-e1721879556556.jpeg
END:VEVENT
BEGIN:VEVENT
DTSTART;VALUE=DATE:20241218
DTEND;VALUE=DATE:20241219
DTSTAMP:20260425T053230
CREATED:20240725T050139Z
LAST-MODIFIED:20240725T050139Z
UID:2667-1734480000-1734566399@nathanielkearneyjr.com
SUMMARY:Dave Koz & Friends Christmas Tour @ Mesa Arts Center - Ikeda Theater
DESCRIPTION:
URL:https://nathanielkearneyjr.com/event/dave-koz-friends-christmas-tour-mesa-arts-center-ikeda-theater/
LOCATION:Mesa Arts Center\, 1 E Main St\, Mesa\, AZ\, 85201\, United States
ATTACH;FMTTYPE=image/jpeg:https://nathanielkearneyjr.com/wp-content/uploads/2024/07/koz-christmas-24-e1721879556556.jpeg
END:VEVENT
BEGIN:VEVENT
DTSTART;VALUE=DATE:20241215
DTEND;VALUE=DATE:20241216
DTSTAMP:20260425T053230
CREATED:20240725T045804Z
LAST-MODIFIED:20240725T045804Z
UID:2665-1734220800-1734307199@nathanielkearneyjr.com
SUMMARY:Dave Koz & Friends Christmas Tour @ Music Hall for The Performing Arts
DESCRIPTION:
URL:https://nathanielkearneyjr.com/event/dave-koz-friends-christmas-tour-music-hall-for-the-performing-arts/
LOCATION:Music Hall\, 350 Madison St\, Detroit\, MI\, 48226\, United States
ATTACH;FMTTYPE=image/jpeg:https://nathanielkearneyjr.com/wp-content/uploads/2024/07/koz-christmas-24-e1721879556556.jpeg
END:VEVENT
BEGIN:VEVENT
DTSTART;VALUE=DATE:20241214
DTEND;VALUE=DATE:20241215
DTSTAMP:20260425T053230
CREATED:20240725T045443Z
LAST-MODIFIED:20240725T045443Z
UID:2663-1734134400-1734220799@nathanielkearneyjr.com
SUMMARY:Dave Koz & Friends Christmas Tour @ The Palace Theatre
DESCRIPTION:
URL:https://nathanielkearneyjr.com/event/dave-koz-friends-christmas-tour-the-palace-theatre/
LOCATION:Palace Theatre\, 34 W Broad St\, Columbus\, OH\, 43215\, United States
ATTACH;FMTTYPE=image/jpeg:https://nathanielkearneyjr.com/wp-content/uploads/2024/07/koz-christmas-24-e1721879556556.jpeg
END:VEVENT
BEGIN:VEVENT
DTSTART;VALUE=DATE:20241213
DTEND;VALUE=DATE:20241214
DTSTAMP:20260425T053230
CREATED:20240725T044817Z
LAST-MODIFIED:20240801T050602Z
UID:2661-1734048000-1734134399@nathanielkearneyjr.com
SUMMARY:Dave Koz & Friends Christmas Tour @ The Palladium
DESCRIPTION:
URL:https://nathanielkearneyjr.com/event/dave-koz-friends-christmas-tour-the-palladium-2/
LOCATION:The Palladium\, 760 Third Ave SW\, Carmel\, IN\, 46032\, United States
ATTACH;FMTTYPE=image/jpeg:https://nathanielkearneyjr.com/wp-content/uploads/2024/07/koz-christmas-24-e1721879556556.jpeg
END:VEVENT
BEGIN:VEVENT
DTSTART;VALUE=DATE:20241212
DTEND;VALUE=DATE:20241213
DTSTAMP:20260425T053230
CREATED:20240725T044438Z
LAST-MODIFIED:20240725T044438Z
UID:2659-1733961600-1734047999@nathanielkearneyjr.com
SUMMARY:Dave Koz & Friends Christmas Tour @ The Auditorium Theatre
DESCRIPTION:
URL:https://nathanielkearneyjr.com/event/dave-koz-friends-christmas-tour-the-auditorium-theatre/
LOCATION:Auditiorium Theatre\, 50 E Ida B Wells Dr\, Chicago\, IL\, 60605\, United States
ATTACH;FMTTYPE=image/jpeg:https://nathanielkearneyjr.com/wp-content/uploads/2024/07/koz-christmas-24-e1721879556556.jpeg
END:VEVENT
BEGIN:VEVENT
DTSTART;VALUE=DATE:20241211
DTEND;VALUE=DATE:20241212
DTSTAMP:20260425T053230
CREATED:20240725T043932Z
LAST-MODIFIED:20240725T043932Z
UID:2656-1733875200-1733961599@nathanielkearneyjr.com
SUMMARY:Dave Koz & Friends Christmas Tour @ Robins Theatre
DESCRIPTION:
URL:https://nathanielkearneyjr.com/event/dave-koz-friends-christmas-tour-robins-theatre/
LOCATION:Robins Theatre\, 160 E Market St\, Warren\, OH\, 44481\, United States
ATTACH;FMTTYPE=image/jpeg:https://nathanielkearneyjr.com/wp-content/uploads/2024/07/koz-christmas-24-e1721879556556.jpeg
END:VEVENT
BEGIN:VEVENT
DTSTART;VALUE=DATE:20241208
DTEND;VALUE=DATE:20241209
DTSTAMP:20260425T053230
CREATED:20240725T043430Z
LAST-MODIFIED:20240725T043430Z
UID:2653-1733616000-1733702399@nathanielkearneyjr.com
SUMMARY:Dave Koz & Friends Christmas Tour @ Conner Place
DESCRIPTION:
URL:https://nathanielkearneyjr.com/event/dave-koz-friends-christmas-tour-conner-place/
LOCATION:Connor Palace at Playhouse Square\, 1615 Euclid Ave\, Cleveland\, OH\, 44115\, United States
ATTACH;FMTTYPE=image/jpeg:https://nathanielkearneyjr.com/wp-content/uploads/2024/07/koz-christmas-24-e1721879556556.jpeg
END:VEVENT
BEGIN:VEVENT
DTSTART;VALUE=DATE:20241207
DTEND;VALUE=DATE:20241208
DTSTAMP:20260425T053230
CREATED:20240725T041938Z
LAST-MODIFIED:20240725T041938Z
UID:2647-1733529600-1733615999@nathanielkearneyjr.com
SUMMARY:Dave Koz & Friends Christmas Tour @ The John Lyman Center For Performing Arts
DESCRIPTION:
URL:https://nathanielkearneyjr.com/event/dave-koz-friends-christmas-tour-the-john-lyman-center-for-performing-arts/
LOCATION:John Lyman Center for Performing Arts\, 501 Crescent St\, New Haven\, CT\, 06515\, United States
ATTACH;FMTTYPE=image/jpeg:https://nathanielkearneyjr.com/wp-content/uploads/2024/07/koz-christmas-24-e1721879556556.jpeg
END:VEVENT
BEGIN:VEVENT
DTSTART;VALUE=DATE:20241206
DTEND;VALUE=DATE:20241207
DTSTAMP:20260425T053230
CREATED:20240725T041210Z
LAST-MODIFIED:20240725T041210Z
UID:2645-1733443200-1733529599@nathanielkearneyjr.com
SUMMARY:Dave Koz & Friends Christmas Tour @ The Ferguson Center
DESCRIPTION:
URL:https://nathanielkearneyjr.com/event/dave-koz-friends-christmas-tour-the-ferguson-center/
LOCATION:Ferguson Center\, 1 Avenue of the Arts\, Newport News\, VA\, 23606\, United States
ATTACH;FMTTYPE=image/jpeg:https://nathanielkearneyjr.com/wp-content/uploads/2024/07/koz-christmas-24-e1721879556556.jpeg
END:VEVENT
BEGIN:VEVENT
DTSTART;VALUE=DATE:20241205
DTEND;VALUE=DATE:20241206
DTSTAMP:20260425T053230
CREATED:20240725T040900Z
LAST-MODIFIED:20240725T040900Z
UID:2643-1733356800-1733443199@nathanielkearneyjr.com
SUMMARY:Dave Koz & Friends Christmas Tour @ The Music Center at Strathmore
DESCRIPTION:
URL:https://nathanielkearneyjr.com/event/dave-koz-friends-christmas-tour-the-music-center-at-strathmore/
LOCATION:Strathmore\, 5301 Tuckerman Ln\, North Bethesda\, MD\, 20852\, United States
ATTACH;FMTTYPE=image/jpeg:https://nathanielkearneyjr.com/wp-content/uploads/2024/07/koz-christmas-24-e1721879556556.jpeg
END:VEVENT
BEGIN:VEVENT
DTSTART;VALUE=DATE:20241203
DTEND;VALUE=DATE:20241204
DTSTAMP:20260425T053230
CREATED:20240725T040403Z
LAST-MODIFIED:20240725T040444Z
UID:2637-1733184000-1733270399@nathanielkearneyjr.com
SUMMARY:Dave Koz & Friends Christmas Tour @ The Florida Theatre
DESCRIPTION:
URL:https://nathanielkearneyjr.com/event/dave-koz-friends-christmas-tour-the-florida-theatre/
LOCATION:Florida Theatre\, 128 E Forsyth St\, Jacksonville\, FL\, 32202\, United States
ATTACH;FMTTYPE=image/jpeg:https://nathanielkearneyjr.com/wp-content/uploads/2024/07/koz-christmas-24-e1721879556556.jpeg
END:VEVENT
BEGIN:VEVENT
DTSTART;VALUE=DATE:20241202
DTEND;VALUE=DATE:20241203
DTSTAMP:20260425T053230
CREATED:20240725T040201Z
LAST-MODIFIED:20240801T050140Z
UID:2635-1733097600-1733183999@nathanielkearneyjr.com
SUMMARY:Dave Koz & Friends Christmas Tour @ Hayes Hall
DESCRIPTION:
URL:https://nathanielkearneyjr.com/event/w-dave-koz-friends-christmas-tour-hayes-hall/
LOCATION:Artis\, 5833 Pelican Bay Blvd\, Naples\, FL\, 34108\, United States
ATTACH;FMTTYPE=image/jpeg:https://nathanielkearneyjr.com/wp-content/uploads/2024/07/koz-christmas-24-e1721879556556.jpeg
END:VEVENT
BEGIN:VEVENT
DTSTART;VALUE=DATE:20241201
DTEND;VALUE=DATE:20241202
DTSTAMP:20260425T053230
CREATED:20240725T035449Z
LAST-MODIFIED:20240801T045851Z
UID:2633-1733011200-1733097599@nathanielkearneyjr.com
SUMMARY:Dave Koz & Friends Christmas Tour @ The Van Wezel Performing Arts Hall
DESCRIPTION:
URL:https://nathanielkearneyjr.com/event/w-dave-koz-friends-christmas-tour-the-van-wezel-performing-arts-hall/
LOCATION:Van Wezel Performing Arts Hall\, 777 M Tamiami Trail\, Sarasota\, FL\, 34236\, United States
ATTACH;FMTTYPE=image/jpeg:https://nathanielkearneyjr.com/wp-content/uploads/2024/07/koz-christmas-24-e1721879556556.jpeg
END:VEVENT
BEGIN:VEVENT
DTSTART;VALUE=DATE:20241130
DTEND;VALUE=DATE:20241201
DTSTAMP:20260425T053230
CREATED:20240725T035300Z
LAST-MODIFIED:20240725T040619Z
UID:2631-1732924800-1733011199@nathanielkearneyjr.com
SUMMARY:Dave Koz & Friends Christmas Tour @ Ruth Eckerd Hall
DESCRIPTION:
URL:https://nathanielkearneyjr.com/event/w-dave-koz-friends-christmas-tour-ruth-eckerd-hall/
LOCATION:Ruth Eckerd Hall\, 1111 N McMullen Booth Rd\, Clearwater\, FL\, 33759\, United States
ATTACH;FMTTYPE=image/jpeg:https://nathanielkearneyjr.com/wp-content/uploads/2024/07/koz-christmas-24-e1721879556556.jpeg
END:VEVENT
BEGIN:VEVENT
DTSTART;VALUE=DATE:20241129
DTEND;VALUE=DATE:20241130
DTSTAMP:20260425T053230
CREATED:20240725T035109Z
LAST-MODIFIED:20240725T040531Z
UID:2628-1732838400-1732924799@nathanielkearneyjr.com
SUMMARY:Dave Koz & Friends Christmas Tour @ Cobb Energy Center
DESCRIPTION:
URL:https://nathanielkearneyjr.com/event/w-dave-koz-friends-christmas-tour-cobb-energy-center/
LOCATION:Cobb Energy Center\, 2800 Cobb Galleria Pkwy\, Atlanta\, GA\, 30339\, United States
ATTACH;FMTTYPE=image/jpeg:https://nathanielkearneyjr.com/wp-content/uploads/2024/07/koz-christmas-24-e1721879556556.jpeg
END:VEVENT
BEGIN:VEVENT
DTSTART;VALUE=DATE:20241110
DTEND;VALUE=DATE:20241111
DTSTAMP:20260425T053230
CREATED:20241007T185840Z
LAST-MODIFIED:20241007T185840Z
UID:2689-1731196800-1731283199@nathanielkearneyjr.com
SUMMARY:w/Kirk Whalum @ Yoshi's
DESCRIPTION:
URL:https://nathanielkearneyjr.com/event/w-kirk-whalum-yoshis-2/
LOCATION:Yoshi’s\, 510 Embarcadero West\, Oakland\, CA\, 94607\, United States
ATTACH;FMTTYPE=image/jpeg:https://nathanielkearneyjr.com/wp-content/uploads/2021/10/Kirk-Whalum.jpg
END:VEVENT
BEGIN:VEVENT
DTSTART;VALUE=DATE:20241109
DTEND;VALUE=DATE:20241110
DTSTAMP:20260425T053230
CREATED:20241007T185252Z
LAST-MODIFIED:20241007T185252Z
UID:2683-1731110400-1731196799@nathanielkearneyjr.com
SUMMARY:w/Kirk Whalum @ Yoshi's
DESCRIPTION:
URL:https://nathanielkearneyjr.com/event/w-kirk-whalum-yoshis/
LOCATION:Yoshi’s\, 510 Embarcadero West\, Oakland\, CA\, 94607\, United States
ATTACH;FMTTYPE=image/jpeg:https://nathanielkearneyjr.com/wp-content/uploads/2021/10/Kirk-Whalum.jpg
END:VEVENT
BEGIN:VEVENT
DTSTART;VALUE=DATE:20241102
DTEND;VALUE=DATE:20241103
DTSTAMP:20260425T053230
CREATED:20240610T194936Z
LAST-MODIFIED:20240610T194936Z
UID:2585-1730505600-1730591999@nathanielkearneyjr.com
SUMMARY:w/Candy Dulfer @ The Florida Smooth Jazz Weekend
DESCRIPTION:
URL:https://nathanielkearneyjr.com/event/w-candy-dulfer-the-florida-smooth-jazz-weekend/
LOCATION:Hilton Daytona Beach Oceanfront\, 100 N Atlantic Ave\, Daytona Beach\, FL\, 32118\, United States
ATTACH;FMTTYPE=image/jpeg:https://nathanielkearneyjr.com/wp-content/uploads/2024/02/Candy.jpg
END:VEVENT
BEGIN:VEVENT
DTSTART;VALUE=DATE:20241101
DTEND;VALUE=DATE:20241102
DTSTAMP:20260425T053230
CREATED:20240610T194020Z
LAST-MODIFIED:20240610T195830Z
UID:2582-1730419200-1730505599@nathanielkearneyjr.com
SUMMARY:w/Candy Dulfer @ The Capitol Theater
DESCRIPTION:
URL:https://nathanielkearneyjr.com/event/w-candy-dulfer-the-capitol-theater/
LOCATION:Capitol Theater\, 405 Cleveland St\, Clearwater\, FL\, 33755\, United States
ATTACH;FMTTYPE=image/jpeg:https://nathanielkearneyjr.com/wp-content/uploads/2024/02/Candy.jpg
END:VEVENT
BEGIN:VEVENT
DTSTART;VALUE=DATE:20241020
DTEND;VALUE=DATE:20241021
DTSTAMP:20260425T053230
CREATED:20240725T025515Z
LAST-MODIFIED:20240725T025611Z
UID:2605-1729382400-1729468799@nathanielkearneyjr.com
SUMMARY:w/Candy Dulfer @ Hyatt Regency Newport Beach
DESCRIPTION:
URL:https://nathanielkearneyjr.com/event/w-candy-dulfer-hyatt-regency-newport-beach/
LOCATION:Hyatt Regency Newport Beach\, 11074 Jamboree Rd\, Newport Beach\, CA\, 92660\, United States
ATTACH;FMTTYPE=image/jpeg:https://nathanielkearneyjr.com/wp-content/uploads/2024/02/Candy.jpg
END:VEVENT
BEGIN:VEVENT
DTSTART;VALUE=DATE:20241019
DTEND;VALUE=DATE:20241020
DTSTAMP:20260425T053230
CREATED:20240610T191812Z
LAST-MODIFIED:20240610T191812Z
UID:2579-1729296000-1729382399@nathanielkearneyjr.com
SUMMARY:w/Candy Dulfer @ Avalon Casino Ballroom
DESCRIPTION:
URL:https://nathanielkearneyjr.com/event/w-candy-dulfer-avalon-casino-ballroom/
LOCATION:Avalon Casino Ballroom\, 1 Avalon Waterfront\, Avalon\, CA\, 90704\, United States
ATTACH;FMTTYPE=image/jpeg:https://nathanielkearneyjr.com/wp-content/uploads/2024/02/Candy.jpg
END:VEVENT
BEGIN:VEVENT
DTSTART;VALUE=DATE:20241018
DTEND;VALUE=DATE:20241019
DTSTAMP:20260425T053230
CREATED:20240610T190817Z
LAST-MODIFIED:20240610T190916Z
UID:2577-1729209600-1729295999@nathanielkearneyjr.com
SUMMARY:w/Candy Dulfer @ The Blue Note Napa
DESCRIPTION:
URL:https://nathanielkearneyjr.com/event/w-candy-dulfer-the-blue-note-napa-2/
LOCATION:The Blue Note Napa\, 1030 Main St\, Napa\, CA\, 94559\, United States
ATTACH;FMTTYPE=image/jpeg:https://nathanielkearneyjr.com/wp-content/uploads/2024/02/Candy.jpg
END:VEVENT
BEGIN:VEVENT
DTSTART;VALUE=DATE:20241017
DTEND;VALUE=DATE:20241018
DTSTAMP:20260425T053230
CREATED:20240610T190627Z
LAST-MODIFIED:20240610T190627Z
UID:2574-1729123200-1729209599@nathanielkearneyjr.com
SUMMARY:w/Candy Dulfer @ The Blue Note Napa
DESCRIPTION:
URL:https://nathanielkearneyjr.com/event/w-candy-dulfer-the-blue-note-napa/
LOCATION:The Blue Note Napa\, 1030 Main St\, Napa\, CA\, 94559\, United States
ATTACH;FMTTYPE=image/jpeg:https://nathanielkearneyjr.com/wp-content/uploads/2024/02/Candy.jpg
END:VEVENT
BEGIN:VEVENT
DTSTART;VALUE=DATE:20241016
DTEND;VALUE=DATE:20241017
DTSTAMP:20260425T053230
CREATED:20240610T190255Z
LAST-MODIFIED:20240610T190255Z
UID:2572-1729036800-1729123199@nathanielkearneyjr.com
SUMMARY:w/Candy Dulfer @ Jazz Alley
DESCRIPTION:
URL:https://nathanielkearneyjr.com/event/w-candy-dulfer-jazz-alley-2/
LOCATION:Jazz Alley\, 2033 6th Ave\, Seattle\, WA\, 98121\, United States
ATTACH;FMTTYPE=image/jpeg:https://nathanielkearneyjr.com/wp-content/uploads/2024/02/Candy.jpg
END:VEVENT
BEGIN:VEVENT
DTSTART;VALUE=DATE:20241015
DTEND;VALUE=DATE:20241016
DTSTAMP:20260425T053230
CREATED:20240610T185211Z
LAST-MODIFIED:20240610T185211Z
UID:2569-1728950400-1729036799@nathanielkearneyjr.com
SUMMARY:w/Candy Dulfer @ Jazz Alley
DESCRIPTION:
URL:https://nathanielkearneyjr.com/event/w-candy-dulfer-jazz-alley/
LOCATION:Jazz Alley\, 2033 6th Ave\, Seattle\, WA\, 98121\, United States
ATTACH;FMTTYPE=image/jpeg:https://nathanielkearneyjr.com/wp-content/uploads/2024/02/Candy.jpg
END:VEVENT
END:VCALENDAR